BEGIN:VCALENDAR
VERSION:2.0
PRODID:-//ESV 1927 e.V. Ronshausen - ECPv6.15.20//NONSGML v1.0//EN
CALSCALE:GREGORIAN
METHOD:PUBLISH
X-WR-CALNAME:ESV 1927 e.V. Ronshausen
X-ORIGINAL-URL:https://esv-test.ratka.net
X-WR-CALDESC:Veranstaltungen für ESV 1927 e.V. Ronshausen
REFRESH-INTERVAL;VALUE=DURATION:PT1H
X-Robots-Tag:noindex
X-PUBLISHED-TTL:PT1H
BEGIN:VTIMEZONE
TZID:Europe/Berlin
BEGIN:DAYLIGHT
TZOFFSETFROM:+0100
TZOFFSETTO:+0200
TZNAME:CEST
DTSTART:20240331T010000
END:DAYLIGHT
BEGIN:STANDARD
TZOFFSETFROM:+0200
TZOFFSETTO:+0100
TZNAME:CET
DTSTART:20241027T010000
END:STANDARD
BEGIN:DAYLIGHT
TZOFFSETFROM:+0100
TZOFFSETTO:+0200
TZNAME:CEST
DTSTART:20250330T010000
END:DAYLIGHT
BEGIN:STANDARD
TZOFFSETFROM:+0200
TZOFFSETTO:+0100
TZNAME:CET
DTSTART:20251026T010000
END:STANDARD
BEGIN:DAYLIGHT
TZOFFSETFROM:+0100
TZOFFSETTO:+0200
TZNAME:CEST
DTSTART:20260329T010000
END:DAYLIGHT
BEGIN:STANDARD
TZOFFSETFROM:+0200
TZOFFSETTO:+0100
TZNAME:CET
DTSTART:20261025T010000
END:STANDARD
BEGIN:DAYLIGHT
TZOFFSETFROM:+0100
TZOFFSETTO:+0200
TZNAME:CEST
DTSTART:20270328T010000
END:DAYLIGHT
BEGIN:STANDARD
TZOFFSETFROM:+0200
TZOFFSETTO:+0100
TZNAME:CET
DTSTART:20271031T010000
END:STANDARD
END:VTIMEZONE
BEGIN:VEVENT
DTSTART;TZID=Europe/Berlin:20260404T130000
DTEND;TZID=Europe/Berlin:20260404T235900
DTSTAMP:20260424T054151
CREATED:20260305T153842Z
LAST-MODIFIED:20260305T160113Z
UID:938-1775307600-1775347140@esv-test.ratka.net
SUMMARY:Weizenschlag 2026
DESCRIPTION:Der ESV läd zum diesjährigen Weizenschlag am 04.04.2026 am alten Sportplatz ein.
URL:https://esv-test.ratka.net/termin/weizenschlag-2026/
LOCATION:Alter Sportplatz Ronshausen\, Am Sportplatz 9B\, Ronshausen\, Hessen\, 36217\, Germany
CATEGORIES:Weizenschlag
ATTACH;FMTTYPE=image/jpeg:https://esv-test.ratka.net/wp-content/uploads/2026/03/PHOTO-2026-03-05-11-30-56.jpg
ORGANIZER;CN="ESV Ronshausen":MAILTO:info@esvronshausen.de
END:VEVENT
BEGIN:VEVENT
DTSTART;TZID=Europe/Berlin:20260329T150000
DTEND;TZID=Europe/Berlin:20260329T164500
DTSTAMP:20260424T054151
CREATED:20250801T202114Z
LAST-MODIFIED:20260326T104804Z
UID:1057-1774796400-1774802700@esv-test.ratka.net
SUMMARY:Spiel: ESV Ronshausen - SG Sorga/Kathus
DESCRIPTION:
URL:https://esv-test.ratka.net/termin/spiel-esv-ronshausen-sg-sorga-kathus/
LOCATION:Kehlberg-Kampfbahn Ronshausen\, Am Sportplatz 15\, Ronshausen\, Hessen\, 36217\, Germany
CATEGORIES:1. Mannschaft,Fußball
ATTACH;FMTTYPE=image/jpeg:https://esv-test.ratka.net/wp-content/uploads/2025/08/3e3ba403-3952-4991-8492-471ea11c10cc.jpeg
ORGANIZER;CN="ESV Ronshausen":MAILTO:info@esvronshausen.de
END:VEVENT
BEGIN:VEVENT
DTSTART;TZID=Europe/Berlin:20260322T150000
DTEND;TZID=Europe/Berlin:20260322T164500
DTSTAMP:20260424T054151
CREATED:20250801T201559Z
LAST-MODIFIED:20260317T140939Z
UID:1056-1774191600-1774197900@esv-test.ratka.net
SUMMARY:Spiel: SG Wildeck - ESV Ronshausen
DESCRIPTION:
URL:https://esv-test.ratka.net/termin/spiel-sg-wildeck-esv-ronshausen/
LOCATION:Sportplatz Richelsdorf\, Kupferstraße\, Richelsdorf\, Hesse\, 36208\, Germany
CATEGORIES:1. Mannschaft,Fußball
ATTACH;FMTTYPE=image/jpeg:https://esv-test.ratka.net/wp-content/uploads/2026/03/3264ad67-8458-4e09-a43a-47de3714a631.jpeg
END:VEVENT
BEGIN:VEVENT
DTSTART;TZID=Europe/Berlin:20260320T183000
DTEND;TZID=Europe/Berlin:20260320T201500
DTSTAMP:20260424T054151
CREATED:20250731T220053Z
LAST-MODIFIED:20260317T141007Z
UID:1055-1774031400-1774037700@esv-test.ratka.net
SUMMARY:Spiel: ESV Ronshausen - SG Neuenstein II
DESCRIPTION:
URL:https://esv-test.ratka.net/termin/spiel-esv-ronshausen-sg-neuenstein-ii/
LOCATION:Alter Sportplatz Ronshausen\, Am Sportplatz 9B\, Ronshausen\, Hessen\, 36217\, Germany
CATEGORIES:1. Mannschaft,Fußball
ATTACH;FMTTYPE=image/jpeg:https://esv-test.ratka.net/wp-content/uploads/2026/03/1cde060d-4b27-4d60-acc1-1dcf6b15f0f0.jpeg
ORGANIZER;CN="ESV Ronshausen":MAILTO:info@esvronshausen.de
END:VEVENT
BEGIN:VEVENT
DTSTART;TZID=Europe/Berlin:20260110T100000
DTEND;TZID=Europe/Berlin:20260110T150000
DTSTAMP:20260424T054151
CREATED:20251216T184020Z
LAST-MODIFIED:20260316T193435Z
UID:865-1768039200-1768057200@esv-test.ratka.net
SUMMARY:4. internes Spaßturnier
DESCRIPTION:Liebe Fussballfreunde\, Mitglieder\, Unterstützende\, Zuschauer und Freunde des ESV Ronshausen\, \nAuch Anfang 2026 wollen wir wieder ein Spaßhallenfussballtunier veranstalten. \nWie im Flyer zu lesen\, beginnen wir am 10.01.2026 um 10 Uhr mit den Spielen.\nIhr seid herzlich eingeladen\, dabei zu sein und mitzuspielen. Frauen und Kinder natürlich auch.\nWenn ihr eine eigene Mannschaft stellen könnt und wollt super\, wenn es weniger sind kein Problem. Wir losen die restlichen Teams vor Ort aus!\nWir spielen vorraussichtlich in 4+1 Teams 10 minütige Spiele. \nLiebe Grüße\, fröhliche Feiertage und einen guten Rutsch wünscht euch der ESV Ronshausen 🖤💙🤍 \nINFO: \n\nKuchen|Snacks |Getränke\nJeder kann mitspielen\ngeeignete Hallenschuhe und Sportkleidung mitbringen\n\n 
URL:https://esv-test.ratka.net/termin/4-internes-spassturnier/
LOCATION:Großsporthalle Rotenburg\, Breitinger Kirchweg\, Rotenburg a.d. Fulda\, Hessen\, 36199\, Germany
CATEGORIES:Alte Herren,Fußball,Turnier
ATTACH;FMTTYPE=image/jpeg:https://esv-test.ratka.net/wp-content/uploads/2025/12/B20AA05F-CC24-4A31-A83E-9843E2952EB5.jpeg
ORGANIZER;CN="ESV Ronshausen":MAILTO:info@esvronshausen.de
END:VEVENT
BEGIN:VEVENT
DTSTART;TZID=Europe/Berlin:20251228T080000
DTEND;TZID=Europe/Berlin:20251228T170000
DTSTAMP:20260424T054151
CREATED:20251029T202834Z
LAST-MODIFIED:20251029T202834Z
UID:488-1766908800-1766941200@esv-test.ratka.net
SUMMARY:Winterwanderung Alte Herren 28.12.2025
DESCRIPTION:
URL:https://esv-test.ratka.net/termin/winterwanderung-alte-herren-28-12-2025/
LOCATION:Alter Sportplatz Ronshausen\, Am Sportplatz 9B\, Ronshausen\, Hessen\, 36217\, Germany
CATEGORIES:Alte Herren,Fußball,Wanderung
ATTACH;FMTTYPE=image/jpeg:https://esv-test.ratka.net/wp-content/uploads/2025/10/altersportplatz.jpg-nggid0255-ngg0dyn-240x180x100-00f0w010c010r110f110r010t010.jpg
ORGANIZER;CN="ESV Ronshausen":MAILTO:info@esvronshausen.de
END:VEVENT
BEGIN:VEVENT
DTSTART;TZID=Europe/Berlin:20251129T080000
DTEND;TZID=Europe/Berlin:20251129T170000
DTSTAMP:20260424T054151
CREATED:20251029T193631Z
LAST-MODIFIED:20251029T193631Z
UID:452-1764403200-1764435600@esv-test.ratka.net
SUMMARY:Jahreshauptversammlung 2026
DESCRIPTION:Einladung JHV 2026
URL:https://esv-test.ratka.net/termin/jahreshauptversammlung-2026/
LOCATION:Zur Krone\, Kasseler Str. 5\, Ronshausen\, Hessen\, 36217\, Germany
CATEGORIES:Jahreshauptversammlung
ATTACH;FMTTYPE=image/jpeg:https://esv-test.ratka.net/wp-content/uploads/2025/10/Screenshot-2025-10-14-065848.jpg
END:VEVENT
BEGIN:VEVENT
DTSTART;TZID=Europe/Berlin:20251105T000000
DTEND;TZID=Europe/Berlin:20251107T235959
DTSTAMP:20260424T054151
CREATED:20251029T194308Z
LAST-MODIFIED:20251029T201330Z
UID:455-1762300800-1762559999@esv-test.ratka.net
SUMMARY:Sporttage ESV Ronshausen
DESCRIPTION:sporttage
URL:https://esv-test.ratka.net/termin/sporttage-esv-ronshausen/
LOCATION:Alter Sportplatz Ronshausen\, Am Sportplatz 9B\, Ronshausen\, Hessen\, 36217\, Germany
CATEGORIES:Sporttage
ATTACH;FMTTYPE=image/jpeg:https://esv-test.ratka.net/wp-content/uploads/2025/10/Sporttage.jpg
END:VEVENT
END:VCALENDAR