BEGIN:VCALENDAR
VERSION:2.0
PRODID:-//ESV 1927 e.V. Ronshausen - ECPv6.15.20//NONSGML v1.0//EN
CALSCALE:GREGORIAN
METHOD:PUBLISH
X-WR-CALNAME:ESV 1927 e.V. Ronshausen
X-ORIGINAL-URL:https://esv-test.ratka.net
X-WR-CALDESC:Veranstaltungen für ESV 1927 e.V. Ronshausen
REFRESH-INTERVAL;VALUE=DURATION:PT1H
X-Robots-Tag:noindex
X-PUBLISHED-TTL:PT1H
BEGIN:VTIMEZONE
TZID:Europe/Berlin
BEGIN:DAYLIGHT
TZOFFSETFROM:+0100
TZOFFSETTO:+0200
TZNAME:CEST
DTSTART:20240331T010000
END:DAYLIGHT
BEGIN:STANDARD
TZOFFSETFROM:+0200
TZOFFSETTO:+0100
TZNAME:CET
DTSTART:20241027T010000
END:STANDARD
BEGIN:DAYLIGHT
TZOFFSETFROM:+0100
TZOFFSETTO:+0200
TZNAME:CEST
DTSTART:20250330T010000
END:DAYLIGHT
BEGIN:STANDARD
TZOFFSETFROM:+0200
TZOFFSETTO:+0100
TZNAME:CET
DTSTART:20251026T010000
END:STANDARD
BEGIN:DAYLIGHT
TZOFFSETFROM:+0100
TZOFFSETTO:+0200
TZNAME:CEST
DTSTART:20260329T010000
END:DAYLIGHT
BEGIN:STANDARD
TZOFFSETFROM:+0200
TZOFFSETTO:+0100
TZNAME:CET
DTSTART:20261025T010000
END:STANDARD
END:VTIMEZONE
BEGIN:VEVENT
DTSTART;TZID=Europe/Berlin:20251228T080000
DTEND;TZID=Europe/Berlin:20251228T170000
DTSTAMP:20260424T130058
CREATED:20251029T202834Z
LAST-MODIFIED:20251029T202834Z
UID:488-1766908800-1766941200@esv-test.ratka.net
SUMMARY:Winterwanderung Alte Herren 28.12.2025
DESCRIPTION:
URL:https://esv-test.ratka.net/termin/winterwanderung-alte-herren-28-12-2025/
LOCATION:Alter Sportplatz Ronshausen\, Am Sportplatz 9B\, Ronshausen\, Hessen\, 36217\, Germany
CATEGORIES:Alte Herren,Fußball,Wanderung
ATTACH;FMTTYPE=image/jpeg:https://esv-test.ratka.net/wp-content/uploads/2025/10/altersportplatz.jpg-nggid0255-ngg0dyn-240x180x100-00f0w010c010r110f110r010t010.jpg
ORGANIZER;CN="ESV Ronshausen":MAILTO:info@esvronshausen.de
END:VEVENT
END:VCALENDAR